BEGIN:VCALENDAR
VERSION:2.0
PRODID:-//Homestead  - ECPv6.15.15//NONSGML v1.0//EN
CALSCALE:GREGORIAN
METHOD:PUBLISH
X-WR-CALNAME:Homestead 
X-ORIGINAL-URL:https://www.igsclac.com/wp
X-WR-CALDESC:Eventos para Homestead 
REFRESH-INTERVAL;VALUE=DURATION:PT1H
X-Robots-Tag:noindex
X-PUBLISHED-TTL:PT1H
BEGIN:VTIMEZONE
TZID:UTC
BEGIN:STANDARD
TZOFFSETFROM:+0000
TZOFFSETTO:+0000
TZNAME:UTC
DTSTART:20230101T000000
END:STANDARD
END:VTIMEZONE
BEGIN:VEVENT
DTSTART;VALUE=DATE:20241209
DTEND;VALUE=DATE:20241210
DTSTAMP:20260420T223936
CREATED:20260131T151643Z
LAST-MODIFIED:20260131T151643Z
UID:1690-1733702400-1733788799@www.igsclac.com
SUMMARY:Conmemoración del Día Mundial de la Ciencia Verde (2024)
DESCRIPTION:Intervención de profesores del Centro Internacional de Ciencia Verde para Latinoamérica y el Caribe con investigadores de diversos paises.
URL:https://www.igsclac.com/wp/event/conmemoracion-del-dia-mundial-de-la-ciencia-verde-2024/
CATEGORIES:Congreso
END:VEVENT
END:VCALENDAR