BEGIN:VCALENDAR
VERSION:2.0
PRODID:-//Homestead  - ECPv6.15.15//NONSGML v1.0//EN
CALSCALE:GREGORIAN
METHOD:PUBLISH
X-WR-CALNAME:Homestead 
X-ORIGINAL-URL:https://www.igsclac.com/wp
X-WR-CALDESC:Eventos para Homestead 
REFRESH-INTERVAL;VALUE=DURATION:PT1H
X-Robots-Tag:noindex
X-PUBLISHED-TTL:PT1H
BEGIN:VTIMEZONE
TZID:UTC
BEGIN:STANDARD
TZOFFSETFROM:+0000
TZOFFSETTO:+0000
TZNAME:UTC
DTSTART:20240101T000000
END:STANDARD
END:VTIMEZONE
BEGIN:VEVENT
DTSTART;VALUE=DATE:20250910
DTEND;VALUE=DATE:20250913
DTSTAMP:20260420T080712
CREATED:20260202T154312Z
LAST-MODIFIED:20260202T154312Z
UID:1792-1757462400-1757721599@www.igsclac.com
SUMMARY:V Encuentro Colombiano de Ingeniería y Desarrollo Social I Congreso Internacional de Ingeniería y Desarrollo Social
DESCRIPTION:Instrumento digital para la medición de la conciencia ambiental ciudadana: una herramienta tecnológica para la sostenibilidad social.
URL:https://www.igsclac.com/wp/event/v-encuentro-colombiano-de-ingenieria-y-desarrollo-social-i-congreso-internacional-de-ingenieria-y-desarrollo-social/
CATEGORIES:Congreso
END:VEVENT
END:VCALENDAR