BEGIN:VCALENDAR
VERSION:2.0
PRODID:-//Homestead  - ECPv6.15.15//NONSGML v1.0//EN
CALSCALE:GREGORIAN
METHOD:PUBLISH
X-ORIGINAL-URL:https://www.igsclac.com/wp
X-WR-CALDESC:Eventos para Homestead 
REFRESH-INTERVAL;VALUE=DURATION:PT1H
X-Robots-Tag:noindex
X-PUBLISHED-TTL:PT1H
BEGIN:VTIMEZONE
TZID:UTC
BEGIN:STANDARD
TZOFFSETFROM:+0000
TZOFFSETTO:+0000
TZNAME:UTC
DTSTART:20240101T000000
END:STANDARD
END:VTIMEZONE
BEGIN:VEVENT
DTSTART;VALUE=DATE:20251029
DTEND;VALUE=DATE:20251101
DTSTAMP:20260420T050430
CREATED:20260202T155453Z
LAST-MODIFIED:20260202T155515Z
UID:1796-1761696000-1761955199@www.igsclac.com
SUMMARY:SIMPOSIO MULTIDISCIPLINARIO DEL AGUA 2025 TERCER CONGRESO INTERNACIONAL EN INGENIERIA EN DESARROLLO SUSTENTABLE
DESCRIPTION:Estrategia verde: Producción sostenible de tilapia roja en Colombia
URL:https://www.igsclac.com/wp/event/simposio-multidisciplinario-del-agua-2025-tercer-congreso-internacional-en-ingenieria-en-desarrollo-sustentable/
CATEGORIES:Congreso
END:VEVENT
END:VCALENDAR