BEGIN:VCALENDAR
VERSION:2.0
PRODID:-//Homestead  - ECPv6.15.15//NONSGML v1.0//EN
CALSCALE:GREGORIAN
METHOD:PUBLISH
X-ORIGINAL-URL:https://www.igsclac.com/wp
X-WR-CALDESC:Eventos para Homestead 
REFRESH-INTERVAL;VALUE=DURATION:PT1H
X-Robots-Tag:noindex
X-PUBLISHED-TTL:PT1H
BEGIN:VTIMEZONE
TZID:UTC
BEGIN:STANDARD
TZOFFSETFROM:+0000
TZOFFSETTO:+0000
TZNAME:UTC
DTSTART:20210101T000000
END:STANDARD
END:VTIMEZONE
BEGIN:VEVENT
DTSTART;VALUE=DATE:20220622
DTEND;VALUE=DATE:20220623
DTSTAMP:20260423T000621
CREATED:20260131T145046Z
LAST-MODIFIED:20260131T150745Z
UID:1667-1655856000-1655942399@www.igsclac.com
SUMMARY:Taller de sensibilización Frente al Cambio Climático en la alcaldía de Sevilla
DESCRIPTION:Con la participación de Funcionarios de la Administración Municipal de Sevilla – Valle\, se implementó el Taller con gran éxito.
URL:https://www.igsclac.com/wp/event/taller-de-sensibilizacion-frente-al-cambio-climatico-en-la-alcaldia-de-sevilla/
CATEGORIES:Taller
END:VEVENT
END:VCALENDAR